Workbook

Sheet Previous Instructions

Sheet Instructions
A1: Application Instructions
A5: 1. Save a copy of this document by selecting "File" and "Save As". Save your document in the follow format: District Name - School Name - Team Name - Recipe Name. EXAMPLE: RAVENWOODDISTRICT4-RAVENWOODHIGHWOODCHUCKS-MEXIMELTAWAYS
A9: 2. Complete the "Application" and "Recipe Analyzer Tool" sheets below. Insert the photograph of your dish in the "Recipe Photo" sheet. You may also submit your photo separately via email. Many cells on this sheet have been locked from editing. All unlocked cells may be typed in without difficulty except the "Digital Signature" cell (see below for instructions). If you encounter a cell that you believe should be unlocked, please send an email to the Junior Chef Team at farm2school@ed.sc.gov.
A14: Digital Signature – Your sponsor and a school administrator must sign the application. To place the digitized signature in the application:
A15: 1. Right click on the “Sample Signature” image 2. Select “Change Picture” 3. If required, select the “From File” option 4. Double click on a saved image of the digitized signature that you wish to include or select and click “insert” to insert the image of the digitized signature into the application.
A30: 3. Refer to the general application instructions for helpful tips when completing the application. This document is available at: https://ed.sc.gov/districts-schools/health-and-nutrition/special-programs/sc-junior-chef-competition/ or can be requested by emailing the Junior Chef Team at farm2school@ed.sc.gov
A34: 4. Submit a copy of the completed Excel application and picture of the final dish (either inserted in the Recipe Photo sheet in this Excel document or via email) to farm2school@ed.sc.gov. Please title the email Student Chef Competition Entry for [District Name - School Name - Team Name].

Sheet Application
D2: SCDE: Office of Health and Nutrition | G2: Instructions: Complete this form and submit it with your recipe, nutrient analysis (either by using a nutrient analysis software or the Recipe Analyzer Tool included in this application), and an electronic photo of your dish by October 7, 2026. The Cook Off will be held on October 26, 2026 at the University of South Carolina in Columbia. The application can be submitted as an email attachment to: farm2school@ed.sc.gov or mail the application to SC Farm to School Junior Chef Competition, ATTN: Ben Sease, 849 Learning Lane, West Columbia SC 29172
D3: South Carolina Farm to School Junior Chef Competition
B4: Revised 6.5.26
B8: Team Application
B9: Team Name
B10: School District
B11: School Name
B12: School Mailing Address
B13: Name of Principal or District Administrator | F13: Digital Signature An alternative document (e.g. email) may be submitted with the application if a digital signature is not available.
B14: Name of Team Sponsor | F14: Digital Signature An alternative document (e.g. email) may be submitted with the application if a digital signature is not available.
B15: Team Sponsor Email | G15: Contact Phone Number
B16: Adult Coach
B17: Supervising Adult/ Coach | G17: Relation to Student Team Members
B18: Mailing Address | G18: Phone Number
B19: Email Address
B21: Team Members
B22: Name | I22: Grade
B28: Recipe Entry Form
B29: Recipe Name
B30: Recipe Description
B32: Recipe Source if starting from an existing recipe:
B33: Yield * | D33: Serving Size | F33: Nutritional Crediting ** | H33: Preparation Time | I33: Cooking Time
B34: 6
B35: * Place a single number as the yield. *The recipe must yield 6 servings.
B36: ** Tell us which components (fruit, vegetable, meat/meat alternate, whole grain, dairy) and how much (oz./cup) are provided in a serving. NOTE: You may want to consult the food nutrition staff at your school for assistance.
B37: Nutrient Composition
B38: Calories per Serving | E38: Milligrams of Sodium per Serving | H38: Percent Calories from Saturated Fat | I38: Is the recipe trans fat free? (Y or N)
B39: ='Recipe Analyzer Tool'!$F$35 -> 0 | E39: ='Recipe Analyzer Tool'!$K$35 -> 0 | H39: ='Recipe Analyzer Tool'!$L$38 -> #DIV/0!
B43: Ingredients Please identify all South Carolina grown ingredients with (SC) next to the ingredient(s). Please identify the USDA Foods item(s) with (USDA) next to the ingredient(s).
B44: Ingredient No. | C44: Amount | D44: Unit/Measure | E44: Ingredient Name
B45: 1
B46: 2
B47: 3
B48: 4
B49: 5
B50: 6
B51: 7
B52: 8
B53: 9
B54: 10
...

Sheet Nutrient Analysis
A1: Team Name: | B1: =Application!$D$9 -> 0 | D1: Recipe Name: | E1: =Application!$D$29 | H1: Directions
A2: Yield (Number of Servings) | F2: =Application!$B$34 -> 6 | H2: The purpose of this tool is to help aid you in calculating your calories, fat, saturated fat, and sodium when developing a recipe. The ingredients, amount used in recipe, and unit/measure will automatically populate based on your ingredients entered on the Application sheet. If you need a version of this sheet that allows for manual entry of this information, please email StudentChef@gadoe.org. To assist you in completing the nutrient analysis, a list of common ingredient nutritional facts is available (See Common Foods Nutrition Information Resource) if nutrition facts labels are unavailable. This list is not all-inclusive, but rather ingredients that are commonly observed in this competition. Please use http://ndb.nal.usda.gov/ndb/search/list to find other common foods. The fourth page is a sample recipe with the nutrient analysis completed.
A3: Ingredient # | B3: Ingredient | C3: Amount Used in Recipe | D3: Unit/ Measure | E3: Calories for Amount Used in Recipe | F3: Grams of Total Saturated Fat in Amount Used in Recipe | G3: Miligrams of Sodium in Amount Used in Recipe
A4: 1 | B4: =Application!E45 -> 0 | C4: =Application!C45 -> 0 | D4: =Application!D45 -> 0
A5: 2 | B5: =Application!E46 -> 0 | C5: =Application!C46 -> 0 | D5: =Application!D46 -> 0
A6: 3 | B6: =Application!E47 -> 0 | C6: =Application!C47 -> 0 | D6: =Application!D47 -> 0
A7: 4 | B7: =Application!E48 -> 0 | C7: =Application!C48 -> 0 | D7: =Application!D48 -> 0 | H7: 1. Enter the number of servings that your recipe creates if it does not default to the correct number. Enter a single number ("8") only. Do not enter a range ("6-8")
A8: 5 | B8: =Application!E49 -> 0 | C8: =Application!C49 -> 0 | D8: =Application!D49 -> 0
A9: 6 | B9: =Application!E50 -> 0 | C9: =Application!C50 -> 0 | D9: =Application!D50 -> 0
A10: 7 | B10: =Application!E51 -> 0 | C10: =Application!C51 -> 0 | D10: =Application!D51 -> 0 | H10: 2. Calculate the total amount of calories, grams of saturated fat, and miligrams of sodium for each ingredient used in the recipe. You should use nutrition facts labels, the list of common foods nutrition information resource (http://snp.wpgadoe.org/shake-it-up-in-school-nutrition-initiative/student-chef-competition/) , or utilize an electonric program (http://ndb.nal.usda.gov/ndb/search/list; nutritiondata.com; calorieking.com) to complete these calculations. Do not enter labels for the numbers (cal, g, mg).
A11: 8 | B11: =Application!E52 -> 0 | C11: =Application!C52 -> 0 | D11: =Application!D52 -> 0
A12: 9 | B12: =Application!E53 -> 0 | C12: =Application!C53 -> 0 | D12: =Application!D53 -> 0
A13: 10 | B13: =Application!E54 -> 0 | C13: =Application!C54 -> 0 | D13: =Application!D54 -> 0
A14: 11 | B14: =Application!E55 -> 0 | C14: =Application!C55 -> 0 | D14: =Application!D55 -> 0
A15: 12 | B15: =Application!E56 -> 0 | C15: =Application!C56 -> 0 | D15: =Application!D56 -> 0 | H15: 3. Enter the per serving calories, per serving miligrams of sodium, and percent calories from saturated fat onto the application page if the numbers do not automatically populate. These values will be automatically calculated based on your recipe yield and the ingredient information you provide.
A16: 13 | B16: =Application!E57 -> 0 | C16: =Application!C57 -> 0 | D16: =Application!D57 -> 0
A17: 14 | B17: =Application!E58 -> 0 | C17: =Application!C58 -> 0 | D17: =Application!D58 -> 0
A18: 15 | B18: =Application!E59 -> 0 | C18: =Application!C59 -> 0 | D18: =Application!D59 -> 0 | H18: 4. Answer Yes or No to whether the recipe is trans fat free on the application page (under Nutrient Composition). Food products and ingredients used in school meals must contain zero grams trans fat per serving (less than 0.5 grams per serving), according to the nutrition label, unless naturally occurring (such as in meat and dairy products). Labels for each ingredient should be reviewed to ensure they contain zero grams of trans fat per serving.
A19: 16 | B19: =Application!E60 -> 0 | C19: =Application!C60 -> 0 | D19: =Application!D60 -> 0
A20: 17 | B20: =Application!E61 -> 0 | C20: =Application!C61 -> 0 | D20: =Application!D61 -> 0
A21: 18 | B21: =Application!E62 -> 0 | C21: =Application!C62 -> 0 | D21: =Application!D62 -> 0
A22: 19 | B22: =Application!E63 -> 0 | C22: =Application!C63 -> 0 | D22: =Application!D63 -> 0
A23: 20 | B23: =Application!E67 -> 0 | C23: =Application!C67 -> 0 | D23: =Application!D67 -> 0
A24: Total Per Recipe | E24: =SUM(E4:E23) -> 0 | F24: =SUM(F4:F23) -> 0 | G24: =SUM(G4:G23) -> 0
A25: Total Per Serving | E25: =E24/F2 -> 0 | F25: =F24/F2 -> 0 | G25: =G24/F2 -> 0
C26: Per Recipe | E26: Per Serving
B27: Total Calories | C27: =E24 -> 0 | E27: =C27/F2 -> 0 | F27: Enter the per serving numbers from this tool onto page 2 of your team application
B28: Total Sodium (mg) | C28: =G24 -> 0 | E28: =C28/F2 -> 0
B29: Total Calories from Sat Fat | C29: =F24*9 -> 0 | E29: =C29/F2 -> 0
B30: % Calories from Sat Fat | C30: =C29/C27 -> #DIV/0! | E30: =E29/E27 -> #DIV/0!

Sheet Recipe Analyzer Tool
D1: Recipe Analyzer Tool | O1: Directions for Calculating Calories and Nutrients for Recipes
A2: Team Name: | B2: =Application!$D$9 -> 0 | O2: The purpose of this tool is to help aid you in calculating your calories and nutrients when developing a recipe. The ingredients, amount used in recipe and unit/measure will automatically populate based on your ingredients entered on the Application sheet. To assist you in completing the nutrient analysis, a list of common ingredient nutritional facts is available (USDA FoodData Central) if nutrition facts are unavailable. The list is not all-inclusive, but rather ingredients that are commonly observed in this competition. Please cut and paste this link into your web browser http://fdc.nal.usda.gov/food-search?type=Foundation to find other common foods. The last tab on this spreadsheet is a sample recipe with the nutrient analysis completed. Follow the steps below to calculate the nutrition information for a multi-ingredient recipe.
A3: Recipe: | B3: =Application!$D$29 | D3: Values are rounded to the nearest whole number
A4: Yield* (Number of Servings): | C4: =Application!$B$34 -> 6 | D4: *The recipe must yield 6 servings.
A5: Ingredient | B5: Ingredient | C5: Amount | D5: Unit / Measure | E5: Gram weight | F5: Calories ( Energy) | G5: Protein | H5: Total Fat | I5: Carbo-hydrate | J5: Fiber | K5: Sodium | L5: Saturated Fat | M5: Choles-sterol
A6: # | E6: (g) | F6: (calories) | G6: (g) | H6: (g) | I6: (g) | J6: (g) | K6: (mg) | L6: (g) | M6: (mg)
A7: 1 | B7: =Application!$E$45 -> 0 | C7: =Application!$C$45 -> 0 | D7: =Application!$D$45 -> 0 | O7: 1. If the yield does not populate from the Application, enter the number of servings that your recipe makes into field C4. Enter a single number ("6") only.
A8: 2 | B8: =Application!$E$46 -> 0 | C8: =Application!$C$46 -> 0 | D8: =Application!$D$46 -> 0
A9: 3 | B9: =Application!$E$47 -> 0 | C9: =Application!$C$47 -> 0 | D9: =Application!$D$47 -> 0 | O9: 2. Calculate the total amount of calories and nutrients for each ingredient used in the recipe. You should use nutrition facts labels, the Common Foods Nutrition Information Resource (USDA FoodData Central) at http://fdc.nal.usda.gov/food-search?type=Foundation to complete these calculations. Determine the calories and nutrients for each individual ingredient in the correct quantity and enter the data into the spreadsheet. Once entered, it will add up values for the total recipe. When you enter the number of servings (6), the spreadsheet will determine calories and nutrients per serving. Do not enter labels for the numbers (cal, g, mg).
A10: 4 | B10: =Application!$E$48 -> 0 | C10: =Application!$C$48 -> 0 | D10: =Application!$D$48 -> 0
A11: 5 | B11: =Application!$E$49 -> 0 | C11: =Application!$C$49 -> 0 | D11: =Application!$D$49 -> 0
A12: 6 | B12: =Application!$E$50 -> 0 | C12: =Application!$C$50 -> 0 | D12: =Application!$D$50 -> 0
A13: 7 | B13: =Application!$E$51 -> 0 | C13: =Application!$C$51 -> 0 | D13: =Application!$D$51 -> 0
A14: 8 | B14: =Application!$E$52 -> 0 | C14: =Application!$C$52 -> 0 | D14: =Application!$D$52 -> 0
A15: 9 | B15: =Application!$E$53 -> 0 | C15: =Application!$C$53 -> 0 | D15: =Application!$D$53 -> 0
A16: 10 | B16: =Application!$E$54 -> 0 | C16: =Application!$C$54 -> 0 | D16: =Application!$D$54 -> 0
A17: 11 | B17: =Application!$E$55 -> 0 | C17: =Application!$C$55 -> 0 | D17: =Application!$D$55 -> 0
A18: 12 | B18: =Application!$E$56 -> 0 | C18: =Application!$C$56 -> 0 | D18: =Application!$D$56 -> 0
A19: 13 | B19: =Application!$E$57 -> 0 | C19: =Application!$C$57 -> 0 | D19: =Application!$D$57 -> 0 | O19: 3. Enter the per serving calories, sodium, and saturated fat onto the application page if the numbers do not automatically populate. These values will be automatically calculated based on your recipe yield and the ingredient information you provide.
A20: 14 | B20: =Application!$E$58 -> 0 | C20: =Application!$C$58 -> 0 | D20: =Application!$D$58 -> 0
A21: 15 | B21: =Application!$E$59 -> 0 | C21: =Application!$C$59 -> 0 | D21: =Application!$D$59 -> 0
A22: 16 | B22: =Application!$E$60 -> 0 | C22: =Application!$C$60 -> 0 | D22: =Application!$D$60 -> 0
A23: 17 | B23: =Application!$E$61 -> 0 | C23: =Application!$C$61 -> 0 | D23: =Application!$D$61 -> 0 | O23: 4. Answer Yes or No to whether the recipe is trans fat free on the application page (under Nutrient Composition). Food products and ingredients used in school meals must contain zero grams trans fat per serving (less than 0.5 grams per serving), according to the nutrition label, unless naturally occurring (such as in meat and dairy products). Labels for each ingredient should be reviewed to ensure they contain zero grams of trans fat per serving.
A24: 18 | B24: =Application!$E$62 -> 0 | C24: =Application!$C$62 -> 0 | D24: =Application!$D$62 -> 0
A25: 19 | B25: =Application!$E$63 -> 0 | C25: =Application!$C$63 -> 0 | D25: =Application!$D$63 -> 0
A26: 20 | B26: =Application!$E$64 -> 0 | C26: =Application!$C$64 -> 0 | D26: =Application!$D$64 -> 0
A27: 21 | B27: =Application!$E$65 -> 0 | C27: =Application!$C$65 -> 0 | D27: =Application!$D$65 -> 0
A28: 22 | B28: =Application!$E$66 -> 0 | C28: =Application!$C$66 -> 0 | D28: =Application!$D$66 -> 0
A29: 23 | B29: =Application!$E$67 -> 0 | C29: =Application!$C$67 -> 0 | D29: =Application!$D$67 -> 0
B30: Totals
C31: Whole recipe | E31: =SUM(E7:E26) -> 0 | F31: =SUM(F7:F29) -> 0 | G31: =SUM(G7:G26) -> 0 | H31: =SUM(H7:H26) -> 0 | I31: =SUM(I7:I26) -> 0 | J31: =SUM(J7:J26) -> 0 | K31: =SUM(K7:K29) -> 0 | L31: =SUM(L7:L29) -> 0 | M31: =SUM(M7:M26) -> 0
E32: =SUM(E7:E26)/C4 -> 0 | G32: =SUM(G7:G26)/C4 -> 0 | H32: =SUM(H7:H26)/C4 -> 0 | I32: =SUM(I7:I26)/C4 -> 0 | J32: =SUM(J7:J26)/C4 -> 0 | K32: total calories from sat. fat | L32: =L31*9 -> 0 | M32: =SUM(M7:M26)/C4 -> 0
F34: % calories from sat. fat | L34: =L32/F31 -> #DIV/0!
C35: Per single serving | F35: =F31/C4 -> 0 | K35: =K31/C4 -> 0 | L35: =L31/C4 -> 0
K36: total calories from sat. fat | L36: =L35*9 -> 0
F38: % calories from sat. fat | L38: =L36/F35 -> #DIV/0!
A42: Source: Jean Mayer USDA Human Nutrition Research Center on Aging. Calculating Calories and Nutrients in Meals. http://hnrca.tufts.edu/flipbook/resources/restaurant-meal-calculator/ (Discontinued) Accessed June 27, 2018.

Sheet Taste Test
A1: Taste Test Results | C1: OPTIONAL
A3: Instructions: Summarize the results of your student taste testing by completing the fields below.
A6: How did you conduct the taste test? (write a brief description)
A14: How many students tasted the recipe?
A16: How many liked it?
A17: How many did not like it?
A18: How many would try it again?
A20: Summary of feedback on the recipe:
A29: Changes made to recipe based on feedback:

Sheet Recipe Photo
A1: Insert a photograph of the dish. Select a cell, go to the Insert tab at the top, click on Picture and choose the photo you want to insert.

Sheet Sample Recipe
D1: SAMPLE Recipe Analyzer Tool | O1: Directions for Calculating Calories and Nutrients for Recipes
A2: Team Name: | B2: Junior Chef Example | O2: The purpose of this tool is to help aid you in calculating your calories and nutrients when developing a recipe. The ingredients, amount used in recipe and unit/measure will automatically populate based on your ingredients entered on the Application sheet. To assist you in completing the nutrient analysis, a list of common ingredient nutritional facts is available (USDA FoodData Central) if nutrition facts are unavailable. The list is not all-inclusive, but rather ingredients that are commonly observed in this competition. Please cut and paste this link into your web browser http://fdc.nal.usda.gov/food-search?type=Foundation to find other common foods. The last tab on this spreadsheet is a sample recipe with the nutrient analysis completed. Follow the steps below to calculate the nutrition information for a multi-ingredient recipe.
A3: Recipe: | B3: Chicken with Oven Roasted Vegetables | D3: Values are rounded to the nearest whole number
A4: Yield* (Number of Servings): | C4: =Application!$B$34 -> 6 | D4: *If yield does not populate from the application, enter the number of servings in field C4. *The recipe must yield 6 servings.
A5: Ingredient | B5: Ingredient | C5: Amount | D5: Unit / Measure | E5: Gram weight | F5: Calories ( Energy) | G5: Protein | H5: Total Fat | I5: Carbo-hydrate | J5: Fiber | K5: Sodium | L5: Saturated Fat
A6: # | E6: (g) | F6: (calories) | G6: (g) | H6: (g) | I6: (g) | J6: (g) | K6: (mg) | L6: (g) | M6: Choles-sterol
A7: 1 | B7: EVOO | C7: 1 | D7: Tbsp | E7: 27 | F7: 119 | K7: 0.27 | L7: 1.86 | M7: (mg) | O7: 1. If the yield does not populate from the Application, enter the number of servings that your recipe makes into field C4. Enter a single number ("6") only.
A8: 2 | B8: Lemon juice | C8: 1 | D8: Tbsp | E8: 15.37 | F8: 3.35 | K8: 0.153 | L8: 0
A9: 3 | B9: Italian seasoning (McCormick) | C9: 0.5 | D9: tsp | E9: 0.6 | F9: 5 | K9: 125 | L9: 0.004 | O9: 2. Calculate the total amount of calories and nutrients for each ingredient used in the recipe. You should use nutrition facts labels, the Common Foods Nutrition Information Resource (USDA FoodData Central) at http://fdc.nal.usda.gov/food-search?type=Foundation to complete these calculations. Determine the calories and nutrients for each individual ingredient in the correct quantity and enter the data into the spreadsheet. Once entered, it will add up values for the total recipe. When you enter the number of servings (6), the spreadsheet will determine calories and nutrients per serving. Do not enter labels for the numbers (cal, g, mg).
A10: 4 | B10: Kosher Salt (Diamond Crystal) | C10: 0.25 | D10: tsp | E10: 1.5 | F10: 0 | K10: 280 | L10: 0
A11: 5 | B11: Pepper (ROUNDYS) | C11: 0.25 | D11: tsp | E11: 0.57 | F11: 0 | K11: 0 | L11: 0
A12: 6 | B12: Broccoli (raw), chopped | C12: 1 | D12: cup | E12: 91 | F12: 31 | K12: 30 | L12: 0.104
A13: 7 | B13: Carrots (raw), chopped | C13: 1 | D13: cup | E13: 128 | F13: 52.5 | K13: 88.3 | L13: 0.041
A14: 8 | B14: Cauliflower (raw), chopped | C14: 1 | D14: cup | E14: 107 | F14: 26.8 | K14: 32.1 | L14: 0.139
A15: 9 | B15: Chicken Breast (raw, skinless, boneless) | C15: 14 | D15: oz | F15: 424 | K15: 264 | L15: 1.4
A16: 10
A17: 11
A18: 12
A19: 13 | O19: 3. Enter the per serving calories, sodium, and saturated fat onto the application page if the numbers do not automatically populate. These values will be automatically calculated based on your recipe yield and the ingredient information you provide.
A20: 14
A21: 15
A22: 16
A23: 17 | O23: 4. Answer Yes or No to whether the recipe is trans fat free on the application page (under Nutrient Composition). Food products and ingredients used in school meals must contain zero grams trans fat per serving (less than 0.5 grams per serving), according to the nutrition label, unless naturally occurring (such as in meat and dairy products). Labels for each ingredient should be reviewed to ensure they contain zero grams of trans fat per serving.
A24: 18
A25: 19
A26: 20
B27: Totals
C28: Whole recipe | E28: =SUM(E7:E26) -> 371.04 | F28: =SUM(F7:F26) -> 661.65 | G28: =SUM(G7:G26) -> 0 | H28: =SUM(H7:H26) -> 0 | I28: =SUM(I7:I26) -> 0 | J28: =SUM(J7:J26) -> 0 | K28: =SUM(K7:K26) -> 819.823 | L28: =SUM(L7:L26) -> 3.548
C29: Per single serving | E29: =SUM(E7:E26)/C4 -> 61.84 | F29: =SUM(F7:F26)/C4 -> 110.275 | G29: =SUM(G7:G26)/C4 -> 0 | H29: =SUM(H7:H26)/C4 -> 0 | I29: =SUM(I7:I26)/C4 -> 0 | J29: =SUM(J7:J26)/C4 -> 0 | K29: =SUM(K7:K26)/C4 -> 136.63717 | L29: =SUM(L7:L26)/C4 -> 0.59133333 | M29: =SUM(M8:M27) -> 0
M30: =SUM(M8:M27)/C4 -> 0
J31: total calories from Sat. Fat | L31: =L29*9 -> 5.322
J32: % calories from Sat. fat: | L32: =L31/F29 -> 0.048261165
A34: Source: Jean Mayer USDA Human Nutrition Research Center on Aging. Calculating Calories and Nutrients in Meals. http://hnrca.tufts.edu/flipbook/resources/restaurant-meal-calculator/ (Discontinued) Accessed June 27, 2018.

Sheet Sample Recipe 2017
A1: Recipe Analyzer
A2: Team Name: | C2: Recipe Name:
A3: Number of Servings this Recipe Makes | E3: 8
A4: Ingredient # | B4: Ingredient | C4: Amount Used in Recipe | D4: Calories for Amount Used in Recipe | E4: Grams of Total Saturated Fat in Amount Used in Recipe | F4: Miligrams of Sodium in Amount Used in Recipe
A5: 1 | B5: Onion | C5: 1 large | D5: 60 | E5: 0 | F5: 6
A6: 2 | B6: Carrot | C6: 1 large | D6: 72 | E6: 0 | F6: 50
A7: 3 | B7: Garlic | C7: 2 cloves | D7: 8 | E7: 0 | F7: 2
A8: 4 | B8: Potatoes | C8: 5 potatoes | D8: 840 | E8: 0 | F8: 55
A9: 5 | B9: Black Pepper | C9: 1/2 tsp | D9: 2.5 | E9: 0 | F9: 1
A10: 6 | B10: Chicken Stock | C10: 2 cups | D10: 40 | E10: 0 | F10: 260
A11: 7 | B11: Canola Oil | C11: 2 Tbsp | D11: 124 | E11: 1 | F11: 0
A12: 8 | B12: Skim Milk | C12: 2 cups | D12: 182 | E12: 0.8 | F12: 262
A13: 9
A14: 10
A15: 11
A16: 12
A17: 13
A18: 14
A19: 15
A20: Total Per Recipe | D20: =SUM(D5:D19) -> 1328.5 | E20: =SUM(E5:E19) -> 1.8 | F20: =SUM(F5:F19) -> 636
A21: Total Per Serving | D21: =D20/E3 -> 166.0625 | E21: =E20/E3 -> 0.225 | F21: =F20/E3 -> 79.5
C23: Per Recipe | D23: Per Serving
B24: Total Calories | C24: =D20 -> 1328.5 | D24: =C24/E3 -> 166.0625 | E24: Enter the per serving numbers from this tool onto page 2 of your team application
B25: Total Sodium (mg) | C25: =F20 -> 636 | D25: =C25/E3 -> 79.5
B26: Total Calories from Sat Fat | C26: =E20*9 -> 16.2 | D26: =C26/E3 -> 2.025
B27: % Calories from Sat Fat | C27: =C26/C24 -> 0.012194204 | D27: =D26/D24 -> 0.012194204
